BEGIN:VCALENDAR
VERSION:2.0
PRODID:-//Jörgen Dance - ECPv5.16.1//NONSGML v1.0//EN
CALSCALE:GREGORIAN
METHOD:PUBLISH
X-WR-CALNAME:Jörgen Dance
X-ORIGINAL-URL:https://www.jorgendance.ca
X-WR-CALDESC:Events for Jörgen Dance
REFRESH-INTERVAL;VALUE=DURATION:PT1H
X-Robots-Tag:noindex
X-PUBLISHED-TTL:PT1H
BEGIN:VTIMEZONE
TZID:America/Regina
BEGIN:STANDARD
TZOFFSETFROM:-0600
TZOFFSETTO:-0600
TZNAME:CST
DTSTART:20240101T000000
END:STANDARD
END:VTIMEZONE
BEGIN:VEVENT
DTSTART;TZID=America/Regina:20240201T193000
DTEND;TZID=America/Regina:20240201T213000
DTSTAMP:20260424T000021
CREATED:20230621T163910Z
LAST-MODIFIED:20240130T180028Z
UID:33926-1706815800-1706823000@www.jorgendance.ca
SUMMARY:Anne of Green Gables – The Ballet® in Prince Albert\, SK
DESCRIPTION:View and Download Program Booklet\nAnne of Green Gables – The Ballet® is a playful\, colourful and evocative production that will transport audiences to early 20th century Atlantic Canada. Based on the beloved Canadian novel by Lucy Maud Montgomery\, Anne of Green Gables – The Ballet® follows the adventures of Anne Shirley\, an orphan girl sent to live on a farm in the fictional town of Avonlea\, Prince Edward Island.
URL:https://www.jorgendance.ca/event/anne-of-green-gables-the-ballet-prince-albert-sk/
LOCATION:E. Rawlinson Centre\, 142 12th Street West\, Prince Albert\, SK\, Canada
CATEGORIES:Anne of Green Gables,Ballet Jörgen Events,Performances
END:VEVENT
END:VCALENDAR