BEGIN:VCALENDAR
VERSION:2.0
PRODID:-//Jörgen Dance - ECPv5.16.1//NONSGML v1.0//EN
CALSCALE:GREGORIAN
METHOD:PUBLISH
X-ORIGINAL-URL:https://www.jorgendance.ca
X-WR-CALDESC:Events for Jörgen Dance
REFRESH-INTERVAL;VALUE=DURATION:PT1H
X-Robots-Tag:noindex
X-PUBLISHED-TTL:PT1H
BEGIN:VTIMEZONE
TZID:America/Halifax
BEGIN:DAYLIGHT
TZOFFSETFROM:-0400
TZOFFSETTO:-0300
TZNAME:ADT
DTSTART:20240310T060000
END:DAYLIGHT
BEGIN:STANDARD
TZOFFSETFROM:-0300
TZOFFSETTO:-0400
TZNAME:AST
DTSTART:20241103T050000
END:STANDARD
END:VTIMEZONE
BEGIN:VEVENT
DTSTART;TZID=America/Halifax:20240423T193000
DTEND;TZID=America/Halifax:20240423T213000
DTSTAMP:20260421T073622
CREATED:20230622T193908Z
LAST-MODIFIED:20240422T164645Z
UID:34001-1713900600-1713907800@www.jorgendance.ca
SUMMARY:Anne of Green Gables – The Ballet® in Halifax\, NS
DESCRIPTION:View and Download Program Booklet \nAnne of Green Gables – The Ballet® is a playful\, colourful and evocative production that will transport audiences to early 20th century Atlantic Canada. Based on the beloved Canadian novel by Lucy Maud Montgomery\, Anne of Green Gables – The Ballet® follows the adventures of Anne Shirley\, an orphan girl sent to live on a farm in the fictional town of Avonlea\, Prince Edward Island.
URL:https://www.jorgendance.ca/event/anne-of-green-gables-the-ballet-halifax-ns-2024/
LOCATION:Dalhousie Arts Centre\, 6101 University Ave\, Halifax\, Nova Scotia\, B3J 2V9\, Canada
CATEGORIES:Anne of Green Gables,Ballet Jörgen Events,Performances
GEO:44.6399068;'-63.5784698
X-APPLE-STRUCTURED-LOCATION;VALUE=URI;X-ADDRESS=Dalhousie Arts Centre 6101 University Ave Halifax Nova Scotia B3J 2V9 Canada;X-APPLE-RADIUS=500;X-TITLE=6101 University Ave:geo:'-63.5784698,44.6399068
END:VEVENT
END:VCALENDAR