BEGIN:VCALENDAR
VERSION:2.0
PRODID:-//Jörgen Dance - ECPv5.16.1//NONSGML v1.0//EN
CALSCALE:GREGORIAN
METHOD:PUBLISH
X-ORIGINAL-URL:https://www.jorgendance.ca
X-WR-CALDESC:Events for Jörgen Dance
REFRESH-INTERVAL;VALUE=DURATION:PT1H
X-Robots-Tag:noindex
X-PUBLISHED-TTL:PT1H
BEGIN:VTIMEZONE
TZID:America/Toronto
BEGIN:DAYLIGHT
TZOFFSETFROM:-0500
TZOFFSETTO:-0400
TZNAME:EDT
DTSTART:20240310T070000
END:DAYLIGHT
BEGIN:STANDARD
TZOFFSETFROM:-0400
TZOFFSETTO:-0500
TZNAME:EST
DTSTART:20241103T060000
END:STANDARD
END:VTIMEZONE
BEGIN:VEVENT
DTSTART;TZID=America/Toronto:20240725T193000
DTEND;TZID=America/Toronto:20240725T213000
DTSTAMP:20260421T103603
CREATED:20240624T203301Z
LAST-MODIFIED:20240626T144104Z
UID:41040-1721935800-1721943000@www.jorgendance.ca
SUMMARY:Next Stage
DESCRIPTION:George Brown Dance and Jörgen Dance Academy invites you to Next Stage!\n \nNext Stage features our graduating Commercial Dance P106 students. This year’s performance will showcase a diverse range of styles\, spanning from jazz to hip hop\, alongside a captivating on-screen presentation\, as well as engaging vocal and acting performances. \n  \n  \n 
URL:https://www.jorgendance.ca/event/next-stage-2024-1/
LOCATION:Citadel: Mimi Herrndorf Studio Theatre\, 304 Parliament St.\, Toronto\, Ontario\, M5A 3A4
CATEGORIES:GBD Events,Jörgen Dance Academy,Performances
END:VEVENT
END:VCALENDAR