BEGIN:VCALENDAR
VERSION:2.0
PRODID:-//Jörgen Dance - ECPv5.16.1//NONSGML v1.0//EN
CALSCALE:GREGORIAN
METHOD:PUBLISH
X-WR-CALNAME:Jörgen Dance
X-ORIGINAL-URL:https://www.jorgendance.ca
X-WR-CALDESC:Events for Jörgen Dance
REFRESH-INTERVAL;VALUE=DURATION:PT1H
X-Robots-Tag:noindex
X-PUBLISHED-TTL:PT1H
BEGIN:VTIMEZONE
TZID:America/Toronto
BEGIN:DAYLIGHT
TZOFFSETFROM:-0500
TZOFFSETTO:-0400
TZNAME:EDT
DTSTART:20250309T070000
END:DAYLIGHT
BEGIN:STANDARD
TZOFFSETFROM:-0400
TZOFFSETTO:-0500
TZNAME:EST
DTSTART:20251102T060000
END:STANDARD
END:VTIMEZONE
BEGIN:VEVENT
DTSTART;TZID=America/Toronto:20250410T193000
DTEND;TZID=America/Toronto:20250410T213000
DTSTAMP:20260419T145619
CREATED:20250311T163200Z
LAST-MODIFIED:20250410T150409Z
UID:44365-1744313400-1744320600@www.jorgendance.ca
SUMMARY:George Brown Dance Presents: Unleashed
DESCRIPTION:View Program Here\nUnleashed premieres works by acclaimed guest choreographers\, faculty and alumni\, as well as remounting significant works.\nThis show provides all GBD students with professional performance and production experience and is the highlight of our season!
URL:https://www.jorgendance.ca/event/george-brown-dance-unleashed-2025-1/
LOCATION:Winchester Theatre\, 80 Winchester St.\, Toronto\, Ontario\, Canada
CATEGORIES:GBD Events,Jörgen Dance Academy,Performances
END:VEVENT
END:VCALENDAR