BEGIN:VCALENDAR
VERSION:2.0
PRODID:-//Jörgen Dance - ECPv5.16.1//NONSGML v1.0//EN
CALSCALE:GREGORIAN
METHOD:PUBLISH
X-WR-CALNAME:Jörgen Dance
X-ORIGINAL-URL:https://www.jorgendance.ca
X-WR-CALDESC:Events for Jörgen Dance
REFRESH-INTERVAL;VALUE=DURATION:PT1H
X-Robots-Tag:noindex
X-PUBLISHED-TTL:PT1H
BEGIN:VTIMEZONE
TZID:America/St_Johns
BEGIN:DAYLIGHT
TZOFFSETFROM:-0330
TZOFFSETTO:-0230
TZNAME:NDT
DTSTART:20250309T053000
END:DAYLIGHT
BEGIN:STANDARD
TZOFFSETFROM:-0230
TZOFFSETTO:-0330
TZNAME:NST
DTSTART:20251102T043000
END:STANDARD
END:VTIMEZONE
BEGIN:VEVENT
DTSTART;TZID=America/St_Johns:20250427T150000
DTEND;TZID=America/St_Johns:20250427T170000
DTSTAMP:20260419T215211
CREATED:20240708T205603Z
LAST-MODIFIED:20250427T130645Z
UID:39350-1745766000-1745773200@www.jorgendance.ca
SUMMARY:Sleeping Beauty in Saint John\, NB
DESCRIPTION:View and Download Program Booklet\nSleeping Beauty is one of the world‘s most famous classical ballets and holds a place in the repertoire of virtually every major company. This ballet tells the enchanting story of Aurora and her prince complete with its inherently magical qualities and dazzling choreography. \nThe fairy tale about a young woman placed under a spell to sleep for a hundred years only to be awakened by a kiss is an easily accessible story. It appeals to a child’s imagination and holds a special place in the hearts of adults. The underlying theme is the tug between the forces of good (the Lilac Fairy) and evil (Carabosse)\, serving as an important thread to the plot. Told in three acts\, the ballet benefits from the character development and technical expertise for which Ballet Jörgen is known. \nArtistic Director and award-winning choreographer Bengt Jörgen focuses on the magical elements and the interpretation of the ballet as a nature allegory: The young woman represents nature\, the wicked fairy is winter\, who deadens life with pricks of frost until a young man\, spring\, cuts away the brambles to allow the sun to awaken sleeping nature. Sleeping Beauty by Ballet Jörgen draws on the traditional choreography by Marius Petipa to spin a tale of nature and love that will inspire young and old alike.
URL:https://www.jorgendance.ca/event/sleeping-beauty-in-saint-john-nb/
LOCATION:Imperial Theatre\, 24 Kings Square S\, Saint John\, New Brunswick\, E2L 5B8\, Canada
CATEGORIES:Ballet Jörgen Events,Sleeping Beauty
GEO:45.2729629;'-66.0578231
X-APPLE-STRUCTURED-LOCATION;VALUE=URI;X-ADDRESS=Imperial Theatre 24 Kings Square S Saint John New Brunswick E2L 5B8 Canada;X-APPLE-RADIUS=500;X-TITLE=24 Kings Square S:geo:'-66.0578231,45.2729629
END:VEVENT
END:VCALENDAR