BEGIN:VCALENDAR
VERSION:2.0
PRODID:-//Jörgen Dance - ECPv5.16.1//NONSGML v1.0//EN
CALSCALE:GREGORIAN
METHOD:PUBLISH
X-WR-CALNAME:Jörgen Dance
X-ORIGINAL-URL:https://www.jorgendance.ca
X-WR-CALDESC:Events for Jörgen Dance
REFRESH-INTERVAL;VALUE=DURATION:PT1H
X-Robots-Tag:noindex
X-PUBLISHED-TTL:PT1H
BEGIN:VTIMEZONE
TZID:America/Toronto
BEGIN:DAYLIGHT
TZOFFSETFROM:-0500
TZOFFSETTO:-0400
TZNAME:EDT
DTSTART:20250309T070000
END:DAYLIGHT
BEGIN:STANDARD
TZOFFSETFROM:-0400
TZOFFSETTO:-0500
TZNAME:EST
DTSTART:20251102T060000
END:STANDARD
END:VTIMEZONE
BEGIN:VEVENT
DTSTART;TZID=America/Toronto:20250725T173000
DTEND;TZID=America/Toronto:20250725T183000
DTSTAMP:20260420T020547
CREATED:20250626T175702Z
LAST-MODIFIED:20250724T131326Z
UID:46693-1753464600-1753468200@www.jorgendance.ca
SUMMARY:Junior Company Showcase
DESCRIPTION:Junior Company Showcase!\nDancers have been training with Ballet Jörgen’s company dancers and artistic director Bengt Jörgen C.M. to create new works\, hone repertoire and put professional poise to technique\, etiquette and work habits. Taking place in Studio C\, the Junior Company will present excerpts from Swan Lake\, Anastasia\, The Nutcracker: A Canadian Tradition and a sneak peak at the creation of Ballet Jörgen’s newest ballet A Midsummer Night’s Dream in this showcase. \nEVENT IS NOW CLOSED\, LIVESTREAM AT THE LINK BELOW \n \n 
URL:https://www.jorgendance.ca/event/junior-company-showcase-2025/
LOCATION:Ballet Jörgen Studios at George Brown College\, 160 Kendal Avenue\, Building C\, Room 126\, Toronto\, Ontario\, M5R 1M3\, Canada
CATEGORIES:Ballet Jörgen Events,Community Events,Jörgen Dance Academy,Performances
GEO:43.6759454;'-79.4104883
X-APPLE-STRUCTURED-LOCATION;VALUE=URI;X-ADDRESS=Ballet Jörgen Studios at George Brown College 160 Kendal Avenue Building C Room 126 Toronto Ontario M5R 1M3 Canada;X-APPLE-RADIUS=500;X-TITLE=160 Kendal Avenue\, Building C\, Room 126:geo:'-79.4104883,43.6759454
END:VEVENT
END:VCALENDAR