BEGIN:VCALENDAR
VERSION:2.0
PRODID:-//Jörgen Dance - ECPv5.16.1//NONSGML v1.0//EN
CALSCALE:GREGORIAN
METHOD:PUBLISH
X-ORIGINAL-URL:https://www.jorgendance.ca
X-WR-CALDESC:Events for Jörgen Dance
REFRESH-INTERVAL;VALUE=DURATION:PT1H
X-Robots-Tag:noindex
X-PUBLISHED-TTL:PT1H
BEGIN:VTIMEZONE
TZID:America/Toronto
BEGIN:DAYLIGHT
TZOFFSETFROM:-0500
TZOFFSETTO:-0400
TZNAME:EDT
DTSTART:20260308T070000
END:DAYLIGHT
BEGIN:STANDARD
TZOFFSETFROM:-0400
TZOFFSETTO:-0500
TZNAME:EST
DTSTART:20261101T060000
END:STANDARD
END:VTIMEZONE
BEGIN:VEVENT
DTSTART;TZID=America/Toronto:20260409T193000
DTEND;TZID=America/Toronto:20260409T213000
DTSTAMP:20260422T164200
CREATED:20260303T193824Z
LAST-MODIFIED:20260402T141233Z
UID:51274-1775763000-1775770200@www.jorgendance.ca
SUMMARY:George Brown Dance & Jörgen Dance Academy Present: Unleashed 2026
DESCRIPTION:Unleashed will feature works by acclaimed guest choreographers Debbie Wilson and Ryan Lee\, alongside faculty choreographers Kathleen Rea and Yuichi Inoue.\nThis show provides all GBD students with professional performance and production experience and is the highlight of our season! Check out the program HERE. \nPurchase your tickets below – must purchase in advance\, only limited tickets will be available at the door. 
URL:https://www.jorgendance.ca/event/george-brown-dance-presents-unleashed-2026-1/
LOCATION:Winchester Theatre\, 80 Winchester St.\, Toronto\, Ontario\, Canada
CATEGORIES:GBD Events,Jörgen Dance Academy,Performances
END:VEVENT
END:VCALENDAR