BEGIN:VCALENDAR
VERSION:2.0
PRODID:-//Jörgen Dance - ECPv5.16.1//NONSGML v1.0//EN
CALSCALE:GREGORIAN
METHOD:PUBLISH
X-ORIGINAL-URL:https://www.jorgendance.ca
X-WR-CALDESC:Events for Jörgen Dance
REFRESH-INTERVAL;VALUE=DURATION:PT1H
X-Robots-Tag:noindex
X-PUBLISHED-TTL:PT1H
BEGIN:VTIMEZONE
TZID:America/Toronto
BEGIN:DAYLIGHT
TZOFFSETFROM:-0500
TZOFFSETTO:-0400
TZNAME:EDT
DTSTART:20190310T070000
END:DAYLIGHT
BEGIN:STANDARD
TZOFFSETFROM:-0400
TZOFFSETTO:-0500
TZNAME:EST
DTSTART:20191103T060000
END:STANDARD
BEGIN:DAYLIGHT
TZOFFSETFROM:-0500
TZOFFSETTO:-0400
TZNAME:EDT
DTSTART:20200308T070000
END:DAYLIGHT
BEGIN:STANDARD
TZOFFSETFROM:-0400
TZOFFSETTO:-0500
TZNAME:EST
DTSTART:20201101T060000
END:STANDARD
END:VTIMEZONE
BEGIN:VEVENT
DTSTART;TZID=America/Toronto:20200125T080000
DTEND;TZID=America/Toronto:20200125T170000
DTSTAMP:20260425T063602
CREATED:20191030T212858Z
LAST-MODIFIED:20191030T212858Z
UID:5499-1579939200-1579971600@www.jorgendance.ca
SUMMARY:Cranbrook - General Auditions (GBD/JC/SUM IV)
DESCRIPTION:Details TBD
URL:https://www.jorgendance.ca/event/cranbrook-general-auditions-gbd-jc-sum-iv/
CATEGORIES:Auditions,George Brown Dance Auditions,Junior Company Auditions,Summer Intensive IV Auditions
END:VEVENT
BEGIN:VEVENT
DTSTART;TZID=America/Toronto:20200119T134500
DTEND;TZID=America/Toronto:20200119T170000
DTSTAMP:20260425T063602
CREATED:20191030T212858Z
LAST-MODIFIED:20191030T212858Z
UID:5498-1579441500-1579453200@www.jorgendance.ca
SUMMARY:Kingston - General Auditions (GBD/JC/SUM IV)
DESCRIPTION:Audition Program Options  \nGeorge Brown Dance: \nP101 – Dance Performance Preparation \nP105 – Dance Performance: Classical Ballet & Contemporary \nP106 – Commercial Dance: Jazz & Hip Hop \nCanada’s Ballet Jörgen: \nSummer IV – Summer intensive for 16+ \nJC- Junior Company for 18+ \nWhat to bring:  You need to bring a headshot and dance resume to the audition. Please hand them in at registration. \n*If you are auditioning for Ballet Jörgen’s Summer Intensive IV\, Junior Company or Canada’s Ballet Jörgen you will also need to submit a dance photograph. \n*If you are auditioning for any of the George Brown Dance Programs\, you will also need to submit a one-page essay outlining why you wish to join the program. \n*If you are auditioning for P106 you must prepare a Jazz or Hip Hop solo to be performed during the interview. \nFees: \n$60 Fee for GBD Audition \nhttps://canadasballetjorgen.ca/pay-for-gbd-audition/ \nPlease note\, if you are paying day of only exact cash or cheque will be accepted and the audition fee for GBD will be $65. If you pay online\, please bring proof of payment to the audition.  \nThere is no charge for Summer Intensive\, Junior Company or Company Auditions.
URL:https://www.jorgendance.ca/event/kingston-general-auditions-gbd-jc-sum-iv/
LOCATION:The Conservatory\, 237 Wellington Street\, Kingston\, ON\, K7K 0B5\, Canada
CATEGORIES:Auditions,George Brown Dance Auditions,Junior Company Auditions,Professional Dancer Auditions
END:VEVENT
BEGIN:VEVENT
DTSTART;TZID=America/Toronto:20200119T080000
DTEND;TZID=America/Toronto:20200119T170000
DTSTAMP:20260425T063602
CREATED:20191030T212911Z
LAST-MODIFIED:20191030T212911Z
UID:5518-1579420800-1579453200@www.jorgendance.ca
SUMMARY:Toronto - General Auditions (GBD/JC/SUM IV)
DESCRIPTION:Details TBD
URL:https://www.jorgendance.ca/event/toronto-general-auditions-gbd-jc-sum-iv/
CATEGORIES:Auditions,George Brown Dance Auditions,Junior Company Auditions,Summer Intensive IV Auditions
END:VEVENT
BEGIN:VEVENT
DTSTART;TZID=America/Toronto:20200114T183000
DTEND;TZID=America/Toronto:20200114T213000
DTSTAMP:20260425T063602
CREATED:20191030T212858Z
LAST-MODIFIED:20191030T212858Z
UID:5497-1579026600-1579037400@www.jorgendance.ca
SUMMARY:St. John's- General Auditions (GBD/JC/SUM IV)
DESCRIPTION:Audition Program Options \nGeorge Brown Dance: \nP101 – Dance Performance Preparation \nP105 – Dance Performance: Classical Ballet & Contemporary \nP106 – Commercial Dance: Jazz & Hip Hop \nCanada’s Ballet Jörgen: \nSummer IV – Summer intensive for 16+ \nJC- Junior Company for 18+ \nWhat to bring: You need to bring a headshot and dance resume to the audition. Please hand them in at registration. \n*If you are auditioning for Ballet Jörgen’s Summer Intensive IV\, Junior Company or Canada’s Ballet Jörgen you will also need to submit a dance photograph. \n*If you are auditioning for any of the George Brown Dance Programs\, you will also need to submit a one-page essay outlining why you wish to join the program. \n*If you are auditioning for P106 you must prepare a Jazz or Hip Hop solo to be performed during the interview. \nFees: \n$60 Fee for GBD Audition \nhttps://canadasballetjorgen.ca/pay-for-gbd-audition/ \nPlease note\, if you are paying day of only exact cash or cheque will be accepted and the audition fee for GBD will be $65. If you pay online\, please bring proof of payment to the audition. \nThere is no charge for Summer Intensive\, Junior Company or Company Auditions.
URL:https://www.jorgendance.ca/event/st-johns-general-auditions-gbd-jc-sum-iv/
LOCATION:Dance Studio East\, 28 Allston St. Unit 1\, Mount Pearl\, NL\, A1N 0A4\, Canada
CATEGORIES:Auditions,George Brown Dance Auditions,Junior Company Auditions,Professional Dancer Auditions
END:VEVENT
BEGIN:VEVENT
DTSTART;TZID=America/Toronto:20191220T134500
DTEND;TZID=America/Toronto:20191220T153000
DTSTAMP:20260425T063602
CREATED:20191030T212858Z
LAST-MODIFIED:20191030T212858Z
UID:5496-1576849500-1576855800@www.jorgendance.ca
SUMMARY:London- General Auditions (GBD/JC/SUM IV)
DESCRIPTION:Audition Program Options \nGeorge Brown Dance: \nP101 – Dance Performance Preparation \nP105 – Dance Performance: Classical Ballet & Contemporary \nP106 – Commercial Dance: Jazz & Hip Hop \nCanada’s Ballet Jörgen: \nSummer IV – Summer intensive for 16+ \nJC- Junior Company for 18+ \nWhat to bring: You need to bring a headshot and dance resume to the audition. Please hand them in at registration. \n*If you are auditioning for Ballet Jörgen’s Summer Intensive IV\, Junior Company or Canada’s Ballet Jörgen you will also need to submit a dance photograph. \n*If you are auditioning for any of the George Brown Dance Programs\, you will also need to submit a one-page essay outlining why you wish to join the program. \n*If you are auditioning for P106 you must prepare a Jazz or Hip Hop solo to be performed during the interview. \nFees: \n$60 Fee for GBD Audition \nhttps://canadasballetjorgen.ca/pay-for-gbd-audition/ \nPlease note\, if you are paying day of only exact cash or cheque will be accepted and the audition fee for GBD will be $65. If you pay online\, please bring proof of payment to the audition. \nThere is no charge for Summer Intensive\, Junior Company or Company Auditions.
URL:https://www.jorgendance.ca/event/london-general-auditions-gbd-jc-sum-iv/
LOCATION:Dance Steps Studio\, 275 Colborne Street (Unit C)\, London\, ON\, N6B 2S7\, Canada
CATEGORIES:Auditions,George Brown Dance Auditions,Junior Company Auditions,Summer Intensive IV Auditions
GEO:42.9824068;'-81.2382709
X-APPLE-STRUCTURED-LOCATION;VALUE=URI;X-ADDRESS=Dance Steps Studio 275 Colborne Street (Unit C) London ON N6B 2S7 Canada;X-APPLE-RADIUS=500;X-TITLE=275 Colborne Street (Unit C):geo:'-81.2382709,42.9824068
END:VEVENT
BEGIN:VEVENT
DTSTART;TZID=America/Toronto:20191215T100000
DTEND;TZID=America/Toronto:20191215T130000
DTSTAMP:20260425T063602
CREATED:20191030T212858Z
LAST-MODIFIED:20191030T212858Z
UID:5495-1576404000-1576414800@www.jorgendance.ca
SUMMARY:Ottawa- General Auditions (GBD/JC/SUM IV)
DESCRIPTION:Audition Program Options \nGeorge Brown Dance: \nP101 – Dance Performance Preparation \nP105 – Dance Performance: Classical Ballet & Contemporary \nP106 – Commercial Dance: Jazz & Hip Hop \nCanada’s Ballet Jörgen: \nSummer IV – Summer intensive for 16+ \nJC- Junior Company for 18+ \nWhat to bring:  You need to bring a headshot and dance resume to the audition. Please hand them in at registration. \n*If you are auditioning for Ballet Jörgen’s Summer Intensive IV\, Junior Company or Canada’s Ballet Jörgen you will also need to submit a dance photograph. \n*If you are auditioning for any of the George Brown Dance Programs\, you will also need to submit a one-page essay outlining why you wish to join the program. \n*If you are auditioning for P106 you must prepare a Jazz or Hip Hop solo to be performed during the interview. \nFees: \n$60 Fee for GBD Audition \nhttps://canadasballetjorgen.ca/pay-for-gbd-audition/ \nPlease note\, if you are paying day of only exact cash or cheque will be accepted and the audition fee for GBD will be $65. If you pay online\, please bring proof of payment to the audition. \nThere is no charge for Summer Intensive\, Junior Company or Company Auditions.
URL:https://www.jorgendance.ca/event/ottawa-general-auditions-gbd-jc-sum-iv/
LOCATION:The School of Dance\, 200 Crichton Street\, Ottawa\, Ontario\, K1M 1W2\, Canada
CATEGORIES:Auditions,George Brown Dance Auditions,Junior Company Auditions,Summer Intensive IV Auditions
END:VEVENT
BEGIN:VEVENT
DTSTART;TZID=America/Toronto:20191124T100000
DTEND;TZID=America/Toronto:20191124T130000
DTSTAMP:20260425T063602
CREATED:20191030T212858Z
LAST-MODIFIED:20191030T212858Z
UID:5494-1574589600-1574600400@www.jorgendance.ca
SUMMARY:Sault Ste. Marie- General Auditions (GBD/JC/SUM IV)
DESCRIPTION:Audition Program Options \nGeorge Brown Dance: \nP101 – Dance Performance Preparation \nP105 – Dance Performance: Classical Ballet & Contemporary \nP106 – Commercial Dance: Jazz & Hip Hop \nCanada’s Ballet Jörgen: \nSummer IV – Summer intensive for 16+ \nJC- Junior Company for 18+ \nWhat to bring:  You need to bring a headshot and dance resume to the audition. Please hand them in at registration. \n*If you are auditioning for Ballet Jörgen’s Summer Intensive IV\, Junior Company or Canada’s Ballet Jörgen you will also need to submit a dance photograph. \n*If you are auditioning for any of the George Brown Dance Programs\, you will also need to submit a one-page essay outlining why you wish to join the program. \n*If you are auditioning for P106 you must prepare a Jazz or Hip Hop solo to be performed during the interview. \nFees: \n$60 Fee for GBD Audition \nhttps://canadasballetjorgen.ca/pay-for-gbd-audition/ \nPlease note\, if you are paying day of only exact cash or cheque will be accepted and the audition fee for GBD will be $65. If you pay online\, please bring proof of payment to the audition. \nThere is no charge for Summer Intensive\, Junior Company or Company Auditions.
URL:https://www.jorgendance.ca/event/sault-ste-marie-general-auditions-gbd-jc-sum-iv/
LOCATION:Studio Dance Arts\, 612 Queen St. E\, Sault Ste. Marie\, ON (Ontario)\, P6A 2A4\, Canada
CATEGORIES:Auditions,George Brown Dance Auditions,Junior Company Auditions,Summer Intensive IV Auditions
END:VEVENT
BEGIN:VEVENT
DTSTART;TZID=America/Toronto:20191117T103000
DTEND;TZID=America/Toronto:20191117T140000
DTSTAMP:20260425T063602
CREATED:20191030T212858Z
LAST-MODIFIED:20191030T212858Z
UID:5492-1573986600-1573999200@www.jorgendance.ca
SUMMARY:Sudbury - General Audition (GBD/JC/SUM IV)
DESCRIPTION:Audition Program Options \nGeorge Brown Dance: \nP101 – Dance Performance Preparation \nP105 – Dance Performance: Classical Ballet & Contemporary \nP106 – Commercial Dance: Jazz & Hip Hop \nCanada’s Ballet Jörgen: \nSummer IV – Summer intensive for 16+ \nJC- Junior Company for 18+ \nWhat to bring:  You need to bring a headshot and dance resume to the audition. Please hand them in at registration. \n*If you are auditioning for Ballet Jörgen’s Summer Intensive IV\, Junior Company or Canada’s Ballet Jörgen you will also need to submit a dance photograph. \n*If you are auditioning for any of the George Brown Dance Programs\, you will also need to submit a one-page essay outlining why you wish to join the program. \n*If you are auditioning for P106 you must prepare a Jazz or Hip Hop solo to be performed during the interview. \nFees: \n$60 Fee for GBD Audition \nhttps://canadasballetjorgen.ca/pay-for-gbd-audition/ \nPlease note\, if you are paying day of only exact cash or cheque will be accepted and the audition fee for GBD will be $65. If you pay online\, please bring proof of payment to the audition. \nThere is no charge for Summer Intensive\, Junior Company or Company Auditions.
URL:https://www.jorgendance.ca/event/sudbury-general-audition-gbd-jc-sum-iv/
LOCATION:Dynamic Room\, 1542 Lasalle Blvd\, Sudbury\, Ontario\, P3A 1Z7\, Canada
CATEGORIES:Auditions,George Brown Dance Auditions,Junior Company Auditions,Summer Intensive IV Auditions
END:VEVENT
END:VCALENDAR