BEGIN:VCALENDAR
VERSION:2.0
PRODID:-//Jörgen Dance - ECPv5.16.1//NONSGML v1.0//EN
CALSCALE:GREGORIAN
METHOD:PUBLISH
X-WR-CALNAME:Jörgen Dance
X-ORIGINAL-URL:https://www.jorgendance.ca
X-WR-CALDESC:Events for Jörgen Dance
REFRESH-INTERVAL;VALUE=DURATION:PT1H
X-Robots-Tag:noindex
X-PUBLISHED-TTL:PT1H
BEGIN:VTIMEZONE
TZID:America/Vancouver
BEGIN:DAYLIGHT
TZOFFSETFROM:-0800
TZOFFSETTO:-0700
TZNAME:PDT
DTSTART:20230312T100000
END:DAYLIGHT
BEGIN:STANDARD
TZOFFSETFROM:-0700
TZOFFSETTO:-0800
TZNAME:PST
DTSTART:20231105T090000
END:STANDARD
TZID:America/Edmonton
BEGIN:DAYLIGHT
TZOFFSETFROM:-0700
TZOFFSETTO:-0600
TZNAME:MDT
DTSTART:20230312T090000
END:DAYLIGHT
BEGIN:STANDARD
TZOFFSETFROM:-0600
TZOFFSETTO:-0700
TZNAME:MST
DTSTART:20231105T080000
END:STANDARD
TZID:America/Toronto
BEGIN:DAYLIGHT
TZOFFSETFROM:-0500
TZOFFSETTO:-0400
TZNAME:EDT
DTSTART:20230312T070000
END:DAYLIGHT
BEGIN:STANDARD
TZOFFSETFROM:-0400
TZOFFSETTO:-0500
TZNAME:EST
DTSTART:20231105T060000
END:STANDARD
END:VTIMEZONE
BEGIN:VEVENT
DTSTART;TZID=America/Vancouver:20230214T193000
DTEND;TZID=America/Vancouver:20230214T213000
DTSTAMP:20260424T062659
CREATED:20220706T151443Z
LAST-MODIFIED:20230208T194006Z
UID:22069-1676403000-1676410200@www.jorgendance.ca
SUMMARY:Cinderella in Chilliwack\, BC
DESCRIPTION:View and Download Program Booklet\nRe-imagining a classic fairytale \nBallet Jörgen brings a beloved fairytale to life with its telling of Cinderella. An innovative take on the classic\, this stunning production by choreographer Bengt Jörgen offers a realistic\, human look at Cinderella while highlighting magical aspects of the story. Jörgen’s choreography balances the fairy tale elements of the story with a contemporary treatment of Cinderella and her family relationships. \nGlenn Davidson’s set design creates a fantastical environment based on the idea of the natural world reclaiming man-made structures. Inspiration for the set pieces is drawn from ice storms and old forests. Costume designs by Robert Doyle playfully echo each character’s personality. The ballet is set to beautiful music by composer Sergei Prokofiev. \n  \n  \nPhoto by Kristie Jones.
URL:https://www.jorgendance.ca/event/cinderella-chilliwack-2023/
LOCATION:Chilliwack Cultural Centre\, 9201 Corbould St\, Chilliwack\, British Columbia\, V2P 4A6\, Canada
CATEGORIES:Ballet Jörgen Events,Cinderella,Performances
GEO:49.1700602;'-121.9639277
X-APPLE-STRUCTURED-LOCATION;VALUE=URI;X-ADDRESS=Chilliwack Cultural Centre 9201 Corbould St Chilliwack British Columbia V2P 4A6 Canada;X-APPLE-RADIUS=500;X-TITLE=9201 Corbould St:geo:'-121.9639277,49.1700602
END:VEVENT
BEGIN:VEVENT
DTSTART;TZID=America/Vancouver:20230208T193000
DTEND;TZID=America/Vancouver:20230208T213000
DTSTAMP:20260424T062659
CREATED:20220706T151206Z
LAST-MODIFIED:20230206T145654Z
UID:22065-1675884600-1675891800@www.jorgendance.ca
SUMMARY:Cinderella in Cranbrook\, BC
DESCRIPTION:View and Download Program Booklet\nRe-imagining a classic fairytale \nBallet Jörgen brings a beloved fairytale to life with its telling of Cinderella. An innovative take on the classic\, this stunning production by choreographer Bengt Jörgen offers a realistic\, human look at Cinderella while highlighting magical aspects of the story. Jörgen’s choreography balances the fairy tale elements of the story with a contemporary treatment of Cinderella and her family relationships. \nGlenn Davidson’s set design creates a fantastical environment based on the idea of the natural world reclaiming man-made structures. Inspiration for the set pieces is drawn from ice storms and old forests. Costume designs by Robert Doyle playfully echo each character’s personality. The ballet is set to beautiful music by composer Sergei Prokofiev. \n  \n  \nPhoto by Kristie Jones.
URL:https://www.jorgendance.ca/event/cinderella-cranbrook-2023/
LOCATION:Key City Theatre\, 20 14 Ave N\, Cranbrook\, British Columbia\, V1C 6H4\, Canada
CATEGORIES:Ballet Jörgen Events,Cinderella,Performances
GEO:49.513001;'-115.761802
X-APPLE-STRUCTURED-LOCATION;VALUE=URI;X-ADDRESS=Key City Theatre 20 14 Ave N Cranbrook British Columbia V1C 6H4 Canada;X-APPLE-RADIUS=500;X-TITLE=20 14 Ave N:geo:'-115.761802,49.513001
END:VEVENT
BEGIN:VEVENT
DTSTART;TZID=America/Edmonton:20230203T193000
DTEND;TZID=America/Edmonton:20230203T213000
DTSTAMP:20260424T062659
CREATED:20220706T150439Z
LAST-MODIFIED:20230125T192348Z
UID:22063-1675452600-1675459800@www.jorgendance.ca
SUMMARY:Cinderella in Camrose\, AB
DESCRIPTION:View and Download Program Booklet\nRe-imagining a classic fairytale \nBallet Jörgen brings a beloved fairytale to life with its telling of Cinderella. An innovative take on the classic\, this stunning production by choreographer Bengt Jörgen offers a realistic\, human look at Cinderella while highlighting magical aspects of the story. Jörgen’s choreography balances the fairy tale elements of the story with a contemporary treatment of Cinderella and her family relationships. \nGlenn Davidson’s set design creates a fantastical environment based on the idea of the natural world reclaiming man-made structures. Inspiration for the set pieces is drawn from ice storms and old forests. Costume designs by Robert Doyle playfully echo each character’s personality. The ballet is set to beautiful music by composer Sergei Prokofiev. \n  \n  \nPhoto by Kristie Jones.
URL:https://www.jorgendance.ca/event/cinderella-camrose-2023/
LOCATION:Jeanne & Peter Lougheed Performing Arts Centre\, 4501 50 St.\, Camrose\, Alberta\, T4V 5J1\, Canada
CATEGORIES:Ballet Jörgen Events,Cinderella,Performances
GEO:53.012743;'-112.8247574
X-APPLE-STRUCTURED-LOCATION;VALUE=URI;X-ADDRESS=Jeanne & Peter Lougheed Performing Arts Centre 4501 50 St. Camrose Alberta T4V 5J1 Canada;X-APPLE-RADIUS=500;X-TITLE=4501 50 St.:geo:'-112.8247574,53.012743
END:VEVENT
BEGIN:VEVENT
DTSTART;TZID=America/Toronto:20230121T193000
DTEND;TZID=America/Toronto:20230121T213000
DTSTAMP:20260424T062659
CREATED:20220706T150104Z
LAST-MODIFIED:20230112T143842Z
UID:22061-1674329400-1674336600@www.jorgendance.ca
SUMMARY:Cinderella in Windsor\, ON
DESCRIPTION:View and Download Program Booklet\nRe-imagining a classic fairytale \nBallet Jörgen brings a beloved fairytale to life with its telling of Cinderella. An innovative take on the classic\, this stunning production by choreographer Bengt Jörgen offers a realistic\, human look at Cinderella while highlighting magical aspects of the story. Jörgen’s choreography balances the fairy tale elements of the story with a contemporary treatment of Cinderella and her family relationships. \nGlenn Davidson’s set design creates a fantastical environment based on the idea of the natural world reclaiming man-made structures. Inspiration for the set pieces is drawn from ice storms and old forests. Costume designs by Robert Doyle playfully echo each character’s personality. The ballet is set to beautiful music by composer Sergei Prokofiev. \n  \n  \nPhoto by Kristie Jones.
URL:https://www.jorgendance.ca/event/cinderella-windsor-2023/
LOCATION:Chrysler Theatre\, 201 Riverside Dr W\, Windsor\, Ontario\, N9A 5K4\, Canada
CATEGORIES:Ballet Jörgen Events,Cinderella,Performances
GEO:42.3188749;'-83.042187
X-APPLE-STRUCTURED-LOCATION;VALUE=URI;X-ADDRESS=Chrysler Theatre 201 Riverside Dr W Windsor Ontario N9A 5K4 Canada;X-APPLE-RADIUS=500;X-TITLE=201 Riverside Dr W:geo:'-83.042187,42.3188749
END:VEVENT
BEGIN:VEVENT
DTSTART;TZID=America/Toronto:20230115T140000
DTEND;TZID=America/Toronto:20230115T160000
DTSTAMP:20260424T062659
CREATED:20220705T174117Z
LAST-MODIFIED:20230111T142450Z
UID:22026-1673791200-1673798400@www.jorgendance.ca
SUMMARY:Cinderella in Guelph\, ON
DESCRIPTION:View and Download Program Booklet\nRe-imagining a classic fairytale \nBallet Jörgen brings a beloved fairytale to life with its telling of Cinderella. An innovative take on the classic\, this stunning production by choreographer Bengt Jörgen offers a realistic\, human look at Cinderella while highlighting magical aspects of the story. Jörgen’s choreography balances the fairy tale elements of the story with a contemporary treatment of Cinderella and her family relationships. \nGlenn Davidson’s set design creates a fantastical environment based on the idea of the natural world reclaiming man-made structures. Inspiration for the set pieces is drawn from ice storms and old forests. Costume designs by Robert Doyle playfully echo each character’s personality. The ballet is set to beautiful music by composer Sergei Prokofiev. \n  \n  \nPhoto by Kristie Jones.
URL:https://www.jorgendance.ca/event/cinderella-guelph-2023/
LOCATION:River Run Centre\, 35 Woolwich St\, Guelph\, Ontario\, N1H 3V1\, Canada
CATEGORIES:Ballet Jörgen Events,Cinderella,Performances
GEO:43.5477442;'-80.2462628
X-APPLE-STRUCTURED-LOCATION;VALUE=URI;X-ADDRESS=River Run Centre 35 Woolwich St Guelph Ontario N1H 3V1 Canada;X-APPLE-RADIUS=500;X-TITLE=35 Woolwich St:geo:'-80.2462628,43.5477442
END:VEVENT
END:VCALENDAR