BEGIN:VCALENDAR
VERSION:2.0
PRODID:-//Jörgen Dance - ECPv5.16.1//NONSGML v1.0//EN
CALSCALE:GREGORIAN
METHOD:PUBLISH
X-ORIGINAL-URL:https://www.jorgendance.ca
X-WR-CALDESC:Events for Jörgen Dance
REFRESH-INTERVAL;VALUE=DURATION:PT1H
X-Robots-Tag:noindex
X-PUBLISHED-TTL:PT1H
BEGIN:VTIMEZONE
TZID:America/Edmonton
BEGIN:DAYLIGHT
TZOFFSETFROM:-0700
TZOFFSETTO:-0600
TZNAME:MDT
DTSTART:20240310T090000
END:DAYLIGHT
BEGIN:STANDARD
TZOFFSETFROM:-0600
TZOFFSETTO:-0700
TZNAME:MST
DTSTART:20241103T080000
END:STANDARD
TZID:America/Regina
BEGIN:STANDARD
TZOFFSETFROM:-0600
TZOFFSETTO:-0600
TZNAME:CST
DTSTART:20240101T000000
END:STANDARD
END:VTIMEZONE
BEGIN:VEVENT
DTSTART;TZID=America/Edmonton:20240305T190000
DTEND;TZID=America/Edmonton:20240305T213000
DTSTAMP:20260423T030803
CREATED:20230621T180600Z
LAST-MODIFIED:20240229T182639Z
UID:33956-1709665200-1709674200@www.jorgendance.ca
SUMMARY:Anne of Green Gables – The Ballet® in St. Albert\, AB
DESCRIPTION:View and Download Program Booklet\nAnne of Green Gables – The Ballet® is a playful\, colourful and evocative production that will transport audiences to early 20th century Atlantic Canada. Based on the beloved Canadian novel by Lucy Maud Montgomery\, Anne of Green Gables – The Ballet® follows the adventures of Anne Shirley\, an orphan girl sent to live on a farm in the fictional town of Avonlea\, Prince Edward Island.
URL:https://www.jorgendance.ca/event/anne-of-green-gables-the-ballet-st-albert-ab/
LOCATION:The Arden Theatre\, 5 St Anne St\, St. Albert\, Alberta\, T8N 3Z9\, Canada
CATEGORIES:Anne of Green Gables,Ballet Jörgen Events,Performances
GEO:53.6332056;'-113.6282118
X-APPLE-STRUCTURED-LOCATION;VALUE=URI;X-ADDRESS=The Arden Theatre 5 St Anne St St. Albert Alberta T8N 3Z9 Canada;X-APPLE-RADIUS=500;X-TITLE=5 St Anne St:geo:'-113.6282118,53.6332056
END:VEVENT
BEGIN:VEVENT
DTSTART;TZID=America/Edmonton:20240307T193000
DTEND;TZID=America/Edmonton:20240307T213000
DTSTAMP:20260423T030803
CREATED:20230621T181733Z
LAST-MODIFIED:20240305T174937Z
UID:33958-1709839800-1709847000@www.jorgendance.ca
SUMMARY:Anne of Green Gables – The Ballet® in Lloydminster\, SK
DESCRIPTION:View and Download Program Booklet\nAnne of Green Gables – The Ballet® is a playful\, colourful and evocative production that will transport audiences to early 20th century Atlantic Canada. Based on the beloved Canadian novel by Lucy Maud Montgomery\, Anne of Green Gables – The Ballet® follows the adventures of Anne Shirley\, an orphan girl sent to live on a farm in the fictional town of Avonlea\, Prince Edward Island.
URL:https://www.jorgendance.ca/event/anne-of-green-gables-the-ballet-lloydminster-sk/
LOCATION:Vic Juba Community Theatre\, 59 Avenue\, Lloydminster\, AB\, T9V3N7
CATEGORIES:Anne of Green Gables,Ballet Jörgen Events,Performances
END:VEVENT
BEGIN:VEVENT
DTSTART;TZID=America/Regina:20240309T193000
DTEND;TZID=America/Regina:20240309T213000
DTSTAMP:20260423T030803
CREATED:20230621T185009Z
LAST-MODIFIED:20240305T175019Z
UID:33961-1710012600-1710019800@www.jorgendance.ca
SUMMARY:Anne of Green Gables – The Ballet® in Swift Current\, SK
DESCRIPTION:View and Download Program Booklet\nAnne of Green Gables – The Ballet® is a playful\, colourful and evocative production that will transport audiences to early 20th century Atlantic Canada. Based on the beloved Canadian novel by Lucy Maud Montgomery\, Anne of Green Gables – The Ballet® follows the adventures of Anne Shirley\, an orphan girl sent to live on a farm in the fictional town of Avonlea\, Prince Edward Island.
URL:https://www.jorgendance.ca/event/anne-of-green-gables-the-ballet-swift-current-sk/
LOCATION:Sky Centre Living Sky Casino\, 1401 North Service Rd. East\, Swift Current\, Saskatchewan\, S9H 3X6\, Canada
CATEGORIES:Anne of Green Gables,Ballet Jörgen Events,Performances
GEO:50.303976;'-107.784565
X-APPLE-STRUCTURED-LOCATION;VALUE=URI;X-ADDRESS=Sky Centre Living Sky Casino 1401 North Service Rd. East Swift Current Saskatchewan S9H 3X6 Canada;X-APPLE-RADIUS=500;X-TITLE=1401 North Service Rd. East:geo:'-107.784565,50.303976
END:VEVENT
BEGIN:VEVENT
DTSTART;TZID=America/Regina:20240312T193000
DTEND;TZID=America/Regina:20240312T213000
DTSTAMP:20260423T030803
CREATED:20230621T193459Z
LAST-MODIFIED:20240308T151208Z
UID:33964-1710271800-1710279000@www.jorgendance.ca
SUMMARY:Anne of Green Gables – The Ballet® in Regina\, SK
DESCRIPTION:View and Download Program Booklet\nAnne of Green Gables – The Ballet® is a playful\, colourful and evocative production that will transport audiences to early 20th century Atlantic Canada. Based on the beloved Canadian novel by Lucy Maud Montgomery\, Anne of Green Gables – The Ballet® follows the adventures of Anne Shirley\, an orphan girl sent to live on a farm in the fictional town of Avonlea\, Prince Edward Island.
URL:https://www.jorgendance.ca/event/anne-of-green-gables-the-ballet-regina-sk/
LOCATION:Darke Hall\, 2255 College Ave\, Regina\, Saskatchewan\, S4P 0S9\, Canada
CATEGORIES:Anne of Green Gables,Ballet Jörgen Events,Performances
END:VEVENT
BEGIN:VEVENT
DTSTART;TZID=America/Regina:20240314T190000
DTEND;TZID=America/Regina:20240314T210000
DTSTAMP:20260423T030803
CREATED:20230621T194227Z
LAST-MODIFIED:20240313T160702Z
UID:33970-1710442800-1710450000@www.jorgendance.ca
SUMMARY:Anne of Green Gables – The Ballet® in Saskatoon\, SK
DESCRIPTION:View and Download Program Booklet\nAnne of Green Gables – The Ballet® is a playful\, colourful and evocative production that will transport audiences to early 20th century Atlantic Canada. Based on the beloved Canadian novel by Lucy Maud Montgomery\, Anne of Green Gables – The Ballet® follows the adventures of Anne Shirley\, an orphan girl sent to live on a farm in the fictional town of Avonlea\, Prince Edward Island.
URL:https://www.jorgendance.ca/event/anne-of-green-gables-the-ballet-in-saskatoon-sk/
LOCATION:TCU Place\, 35 22nd Street East\, Saskatoon\, Saskatchewan\, S7K 0C8\, Canada
CATEGORIES:Anne of Green Gables,Ballet Jörgen Events,Performances
GEO:52.129062;'-106.667018
X-APPLE-STRUCTURED-LOCATION;VALUE=URI;X-ADDRESS=TCU Place 35 22nd Street East Saskatoon Saskatchewan S7K 0C8 Canada;X-APPLE-RADIUS=500;X-TITLE=35 22nd Street East:geo:'-106.667018,52.129062
END:VEVENT
END:VCALENDAR