BEGIN:VCALENDAR
VERSION:2.0
PRODID:-//Jörgen Dance - ECPv5.16.1//NONSGML v1.0//EN
CALSCALE:GREGORIAN
METHOD:PUBLISH
X-ORIGINAL-URL:https://www.jorgendance.ca
X-WR-CALDESC:Events for Jörgen Dance
REFRESH-INTERVAL;VALUE=DURATION:PT1H
X-Robots-Tag:noindex
X-PUBLISHED-TTL:PT1H
BEGIN:VTIMEZONE
TZID:America/Toronto
BEGIN:DAYLIGHT
TZOFFSETFROM:-0500
TZOFFSETTO:-0400
TZNAME:EDT
DTSTART:20190310T070000
END:DAYLIGHT
BEGIN:STANDARD
TZOFFSETFROM:-0400
TZOFFSETTO:-0500
TZNAME:EST
DTSTART:20191103T060000
END:STANDARD
END:VTIMEZONE
BEGIN:VEVENT
DTSTART;TZID=America/Toronto:20190929T140000
DTEND;TZID=America/Toronto:20190929T160000
DTSTAMP:20260422T155803
CREATED:20190806T192346Z
LAST-MODIFIED:20190806T192346Z
UID:4643-1569765600-1569772800@www.jorgendance.ca
SUMMARY:Anne of Green Gables – The Ballet™ in Halifax\, NS
DESCRIPTION:[button link=https://symphonynovascotia.ca/concerts-and-tickets/concerts/rebecca-cohn-auditorium/anne-of-green-gables-the-ballet/ type=”big” color=”purple” newwindow=”yes”] Purchase Tickets[/button]
URL:https://www.jorgendance.ca/event/anne-of-green-gables-the-ballet-in-halifax-ns-2/
LOCATION:Dalhousie Arts Centre\, 6101 University Ave\, Halifax\, Nova Scotia\, B3J 2V9\, Canada
CATEGORIES:Anne of Green Gables,Ballet Jörgen Events,Performances
GEO:44.6399068;'-63.5784698
X-APPLE-STRUCTURED-LOCATION;VALUE=URI;X-ADDRESS=Dalhousie Arts Centre 6101 University Ave Halifax Nova Scotia B3J 2V9 Canada;X-APPLE-RADIUS=500;X-TITLE=6101 University Ave:geo:'-63.5784698,44.6399068
END:VEVENT
BEGIN:VEVENT
DTSTART;TZID=America/Toronto:20190928T193000
DTEND;TZID=America/Toronto:20190928T223000
DTSTAMP:20260422T155803
CREATED:20190806T192346Z
LAST-MODIFIED:20190806T192346Z
UID:4640-1569699000-1569709800@www.jorgendance.ca
SUMMARY:Anne of Green Gables – The Ballet™ in Halifax\, NS
DESCRIPTION:[button link=https://symphonynovascotia.ca/concerts-and-tickets/concerts/rebecca-cohn-auditorium/anne-of-green-gables-the-ballet/ type=”big” color=”purple” newwindow=”yes”] Purchase Tickets[/button]
URL:https://www.jorgendance.ca/event/anne-of-green-gables-the-ballet-in-halifax-ns/
LOCATION:Dalhousie Arts Centre\, 6101 University Ave\, Halifax\, Nova Scotia\, B3J 2V9\, Canada
CATEGORIES:Anne of Green Gables,Ballet Jörgen Events,Performances
GEO:44.6399068;'-63.5784698
X-APPLE-STRUCTURED-LOCATION;VALUE=URI;X-ADDRESS=Dalhousie Arts Centre 6101 University Ave Halifax Nova Scotia B3J 2V9 Canada;X-APPLE-RADIUS=500;X-TITLE=6101 University Ave:geo:'-63.5784698,44.6399068
END:VEVENT
END:VCALENDAR