BEGIN:VCALENDAR
VERSION:2.0
PRODID:-//Jörgen Dance - ECPv5.16.1//NONSGML v1.0//EN
CALSCALE:GREGORIAN
METHOD:PUBLISH
X-ORIGINAL-URL:https://www.jorgendance.ca
X-WR-CALDESC:Events for Jörgen Dance
REFRESH-INTERVAL;VALUE=DURATION:PT1H
X-Robots-Tag:noindex
X-PUBLISHED-TTL:PT1H
BEGIN:VTIMEZONE
TZID:America/Toronto
BEGIN:DAYLIGHT
TZOFFSETFROM:-0500
TZOFFSETTO:-0400
TZNAME:EDT
DTSTART:20190310T070000
END:DAYLIGHT
BEGIN:STANDARD
TZOFFSETFROM:-0400
TZOFFSETTO:-0500
TZNAME:EST
DTSTART:20191103T060000
END:STANDARD
END:VTIMEZONE
BEGIN:VEVENT
DTSTART;TZID=America/Toronto:20191011T193000
DTEND;TZID=America/Toronto:20191011T213000
DTSTAMP:20260419T103245
CREATED:20190806T192346Z
LAST-MODIFIED:20190806T192346Z
UID:4646-1570822200-1570829400@www.jorgendance.ca
SUMMARY:Anne of Green Gables – The Ballet™ in Orem\, Utah (USA)
DESCRIPTION:The tickets’ information coming soon..
URL:https://www.jorgendance.ca/event/anne-of-green-gables-the-ballet-in-orem-utah-usa/
LOCATION:Noorda Center for the Performing Arts\, 800 West University Parkway\, Orem\, UT\, 84058\, United States
CATEGORIES:Anne of Green Gables,Ballet Jörgen Events,Performances
END:VEVENT
END:VCALENDAR