BEGIN:VCALENDAR
VERSION:2.0
PRODID:-//Jörgen Dance - ECPv5.16.1//NONSGML v1.0//EN
CALSCALE:GREGORIAN
METHOD:PUBLISH
X-WR-CALNAME:Jörgen Dance
X-ORIGINAL-URL:https://www.jorgendance.ca
X-WR-CALDESC:Events for Jörgen Dance
REFRESH-INTERVAL;VALUE=DURATION:PT1H
X-Robots-Tag:noindex
X-PUBLISHED-TTL:PT1H
BEGIN:VTIMEZONE
TZID:America/Toronto
BEGIN:DAYLIGHT
TZOFFSETFROM:-0500
TZOFFSETTO:-0400
TZNAME:EDT
DTSTART:20200308T070000
END:DAYLIGHT
BEGIN:STANDARD
TZOFFSETFROM:-0400
TZOFFSETTO:-0500
TZNAME:EST
DTSTART:20201101T060000
END:STANDARD
END:VTIMEZONE
BEGIN:VEVENT
DTSTART;TZID=America/Toronto:20200212T193000
DTEND;TZID=America/Toronto:20200212T213000
DTSTAMP:20260421T115206
CREATED:20190806T192416Z
LAST-MODIFIED:20190806T192416Z
UID:4683-1581535800-1581543000@www.jorgendance.ca
SUMMARY:Anne of Green Gables – The Ballet™ in Maple Ridge\, BC
DESCRIPTION:Buy Tickets
URL:https://www.jorgendance.ca/event/anne-of-green-gables-the-ballet-in-maple-ridge-bc/
LOCATION:ACT Arts Centre\, 11944 Haney Place\, Maple Ridge\, British Columbia\, V2X 6G1\, Canada
CATEGORIES:Anne of Green Gables,Ballet Jörgen Events,Performances
GEO:49.2191927;'-122.5983662
X-APPLE-STRUCTURED-LOCATION;VALUE=URI;X-ADDRESS=ACT Arts Centre 11944 Haney Place Maple Ridge British Columbia V2X 6G1 Canada;X-APPLE-RADIUS=500;X-TITLE=11944 Haney Place:geo:'-122.5983662,49.2191927
END:VEVENT
END:VCALENDAR