BEGIN:VCALENDAR
VERSION:2.0
PRODID:-//Jörgen Dance - ECPv5.16.1//NONSGML v1.0//EN
CALSCALE:GREGORIAN
METHOD:PUBLISH
X-WR-CALNAME:Jörgen Dance
X-ORIGINAL-URL:https://www.jorgendance.ca
X-WR-CALDESC:Events for Jörgen Dance
REFRESH-INTERVAL;VALUE=DURATION:PT1H
X-Robots-Tag:noindex
X-PUBLISHED-TTL:PT1H
BEGIN:VTIMEZONE
TZID:America/Toronto
BEGIN:DAYLIGHT
TZOFFSETFROM:-0500
TZOFFSETTO:-0400
TZNAME:EDT
DTSTART:20190310T070000
END:DAYLIGHT
BEGIN:STANDARD
TZOFFSETFROM:-0400
TZOFFSETTO:-0500
TZNAME:EST
DTSTART:20191103T060000
END:STANDARD
BEGIN:DAYLIGHT
TZOFFSETFROM:-0500
TZOFFSETTO:-0400
TZNAME:EDT
DTSTART:20200308T070000
END:DAYLIGHT
BEGIN:STANDARD
TZOFFSETFROM:-0400
TZOFFSETTO:-0500
TZNAME:EST
DTSTART:20201101T060000
END:STANDARD
BEGIN:DAYLIGHT
TZOFFSETFROM:-0500
TZOFFSETTO:-0400
TZNAME:EDT
DTSTART:20210314T070000
END:DAYLIGHT
BEGIN:STANDARD
TZOFFSETFROM:-0400
TZOFFSETTO:-0500
TZNAME:EST
DTSTART:20211107T060000
END:STANDARD
BEGIN:DAYLIGHT
TZOFFSETFROM:-0500
TZOFFSETTO:-0400
TZNAME:EDT
DTSTART:20220313T070000
END:DAYLIGHT
BEGIN:STANDARD
TZOFFSETFROM:-0400
TZOFFSETTO:-0500
TZNAME:EST
DTSTART:20221106T060000
END:STANDARD
END:VTIMEZONE
BEGIN:VEVENT
DTSTART;TZID=America/Toronto:20191219T190000
DTEND;TZID=America/Toronto:20191219T210000
DTSTAMP:20260421T165633
CREATED:20190806T192401Z
LAST-MODIFIED:20190806T192401Z
UID:4665-1576782000-1576789200@www.jorgendance.ca
SUMMARY:Nutcracker: A Canadian Tradition – Chatham\, ON
DESCRIPTION:[button link=https://secure1.tixhub.com/chatham-kent/online/b_otix.asp?cboPerformances=3931&cboEvent=2445&perfcount=1 type=”big” color=”purple” newwindow=”yes”] Purchase Tickets[/button]
URL:https://www.jorgendance.ca/event/nutcracker-a-canadian-tradition-chatham-on/
LOCATION:Chatham Capitol Theatre\, 238 King St. W\, Chatham\, ON\, N7M 1E7\, Canada
CATEGORIES:Ballet Jörgen Events,Performances,The Nutcracker: A Canadian Tradition
END:VEVENT
BEGIN:VEVENT
DTSTART;TZID=America/Toronto:20220618T190000
DTEND;TZID=America/Toronto:20220618T210000
DTSTAMP:20260421T165633
CREATED:20191121T164307Z
LAST-MODIFIED:20191121T164307Z
UID:10826-1655578800-1655586000@www.jorgendance.ca
SUMMARY:Anne of Green Gables – The Ballet® in Chatham\, ON
DESCRIPTION:National Presenting Partner\n \n  \n  \n  \n \nView & Download the Program
URL:https://www.jorgendance.ca/event/anne-of-green-gables-the-ballet-chatham-on-2022/
LOCATION:Chatham Capitol Theatre\, 238 King St. W\, Chatham\, ON\, N7M 1E7\, Canada
CATEGORIES:Anne of Green Gables,Ballet Jörgen Events,Performances
END:VEVENT
END:VCALENDAR