BEGIN:VCALENDAR
VERSION:2.0
PRODID:-//Jörgen Dance - ECPv5.16.1//NONSGML v1.0//EN
CALSCALE:GREGORIAN
METHOD:PUBLISH
X-ORIGINAL-URL:https://www.jorgendance.ca
X-WR-CALDESC:Events for Jörgen Dance
REFRESH-INTERVAL;VALUE=DURATION:PT1H
X-Robots-Tag:noindex
X-PUBLISHED-TTL:PT1H
BEGIN:VTIMEZONE
TZID:America/Toronto
BEGIN:DAYLIGHT
TZOFFSETFROM:-0500
TZOFFSETTO:-0400
TZNAME:EDT
DTSTART:20200308T070000
END:DAYLIGHT
BEGIN:STANDARD
TZOFFSETFROM:-0400
TZOFFSETTO:-0500
TZNAME:EST
DTSTART:20201101T060000
END:STANDARD
TZID:America/Vancouver
BEGIN:DAYLIGHT
TZOFFSETFROM:-0800
TZOFFSETTO:-0700
TZNAME:PDT
DTSTART:20210314T100000
END:DAYLIGHT
BEGIN:STANDARD
TZOFFSETFROM:-0700
TZOFFSETTO:-0800
TZNAME:PST
DTSTART:20211107T090000
END:STANDARD
BEGIN:DAYLIGHT
TZOFFSETFROM:-0800
TZOFFSETTO:-0700
TZNAME:PDT
DTSTART:20220313T100000
END:DAYLIGHT
BEGIN:STANDARD
TZOFFSETFROM:-0700
TZOFFSETTO:-0800
TZNAME:PST
DTSTART:20221106T090000
END:STANDARD
BEGIN:DAYLIGHT
TZOFFSETFROM:-0800
TZOFFSETTO:-0700
TZNAME:PDT
DTSTART:20230312T100000
END:DAYLIGHT
BEGIN:STANDARD
TZOFFSETFROM:-0700
TZOFFSETTO:-0800
TZNAME:PST
DTSTART:20231105T090000
END:STANDARD
BEGIN:DAYLIGHT
TZOFFSETFROM:-0800
TZOFFSETTO:-0700
TZNAME:PDT
DTSTART:20240310T100000
END:DAYLIGHT
BEGIN:STANDARD
TZOFFSETFROM:-0700
TZOFFSETTO:-0800
TZNAME:PST
DTSTART:20241103T090000
END:STANDARD
END:VTIMEZONE
BEGIN:VEVENT
DTSTART;TZID=America/Toronto:20200214T193000
DTEND;TZID=America/Toronto:20200214T213000
DTSTAMP:20260421T223229
CREATED:20190807T180837Z
LAST-MODIFIED:20190807T180837Z
UID:5016-1581708600-1581715800@www.jorgendance.ca
SUMMARY:Anne of Green Gables – The Ballet™ in Chilliwack\, BC
DESCRIPTION:Buy Tickets
URL:https://www.jorgendance.ca/event/anne-of-green-gables-the-ballet-in-chilliwack-bc/
LOCATION:Chilliwack Cultural Centre\, 9201 Corbould St\, Chilliwack\, British Columbia\, V2P 4A6\, Canada
CATEGORIES:Anne of Green Gables,Ballet Jörgen Events,Performances
GEO:49.1700602;'-121.9639277
X-APPLE-STRUCTURED-LOCATION;VALUE=URI;X-ADDRESS=Chilliwack Cultural Centre 9201 Corbould St Chilliwack British Columbia V2P 4A6 Canada;X-APPLE-RADIUS=500;X-TITLE=9201 Corbould St:geo:'-121.9639277,49.1700602
END:VEVENT
BEGIN:VEVENT
DTSTART;TZID=America/Vancouver:20211010T193000
DTEND;TZID=America/Vancouver:20211010T213000
DTSTAMP:20260421T223229
CREATED:20210901T195511Z
LAST-MODIFIED:20210901T195511Z
UID:18152-1633894200-1633901400@www.jorgendance.ca
SUMMARY:Creations in Isolation in Chilliwack\, BC
DESCRIPTION:  \n \nNational Presenting Partner\n \n  \n  \n  \nBallet Jörgen is back with Creations in Isolation! This mixed program will showcase excerpts from major classical ballets such as Romeo & Juliet the Nutcracker\, our smash hit Anne of Green Gables – The Ballet®\, along with exciting new contemporary works by Ontario choreographers. Creation for some of these new works began with the dancers and choreographers working virtually over video calls from their homes\, others were created in our dance studios under a variety of Covid regulations. You will see the creativity\, dedication and artistry that has gone into each creation by Ballet Jörgen’s extraordinary artists.  \n90 min including one intermission. \nView and Download the Program
URL:https://www.jorgendance.ca/event/creations-in-isolation-chilliwack-bc-2021/
LOCATION:Chilliwack Cultural Centre\, 9201 Corbould St\, Chilliwack\, British Columbia\, V2P 4A6\, Canada
CATEGORIES:Ballet Jörgen Events,Creations in Isolation,Performances
ORGANIZER;CN="Canada%27s%20Ballet%20Jorgen":MAILTO:info@balletjorgen.ca
GEO:49.1700602;'-121.9639277
X-APPLE-STRUCTURED-LOCATION;VALUE=URI;X-ADDRESS=Chilliwack Cultural Centre 9201 Corbould St Chilliwack British Columbia V2P 4A6 Canada;X-APPLE-RADIUS=500;X-TITLE=9201 Corbould St:geo:'-121.9639277,49.1700602
END:VEVENT
BEGIN:VEVENT
DTSTART;TZID=America/Vancouver:20220214T193000
DTEND;TZID=America/Vancouver:20220214T213000
DTSTAMP:20260421T223229
CREATED:20191121T164307Z
LAST-MODIFIED:20191121T164307Z
UID:10743-1644867000-1644874200@www.jorgendance.ca
SUMMARY:Romeo & Juliet in Chilliwack\, BC
DESCRIPTION:National Presenting Partner \n \n  \n  \n  \n \n  \nView & Download the Program \n 
URL:https://www.jorgendance.ca/event/romeojuliet-chilliwack-bc-2022/
LOCATION:Chilliwack Cultural Centre\, 9201 Corbould St\, Chilliwack\, British Columbia\, V2P 4A6\, Canada
CATEGORIES:Ballet Jörgen Events,Performances,Romeo & Juliet
GEO:49.1700602;'-121.9639277
X-APPLE-STRUCTURED-LOCATION;VALUE=URI;X-ADDRESS=Chilliwack Cultural Centre 9201 Corbould St Chilliwack British Columbia V2P 4A6 Canada;X-APPLE-RADIUS=500;X-TITLE=9201 Corbould St:geo:'-121.9639277,49.1700602
END:VEVENT
BEGIN:VEVENT
DTSTART;TZID=America/Vancouver:20230214T193000
DTEND;TZID=America/Vancouver:20230214T213000
DTSTAMP:20260421T223229
CREATED:20220706T151443Z
LAST-MODIFIED:20230208T194006Z
UID:22069-1676403000-1676410200@www.jorgendance.ca
SUMMARY:Cinderella in Chilliwack\, BC
DESCRIPTION:View and Download Program Booklet\nRe-imagining a classic fairytale \nBallet Jörgen brings a beloved fairytale to life with its telling of Cinderella. An innovative take on the classic\, this stunning production by choreographer Bengt Jörgen offers a realistic\, human look at Cinderella while highlighting magical aspects of the story. Jörgen’s choreography balances the fairy tale elements of the story with a contemporary treatment of Cinderella and her family relationships. \nGlenn Davidson’s set design creates a fantastical environment based on the idea of the natural world reclaiming man-made structures. Inspiration for the set pieces is drawn from ice storms and old forests. Costume designs by Robert Doyle playfully echo each character’s personality. The ballet is set to beautiful music by composer Sergei Prokofiev. \n  \n  \nPhoto by Kristie Jones.
URL:https://www.jorgendance.ca/event/cinderella-chilliwack-2023/
LOCATION:Chilliwack Cultural Centre\, 9201 Corbould St\, Chilliwack\, British Columbia\, V2P 4A6\, Canada
CATEGORIES:Ballet Jörgen Events,Cinderella,Performances
GEO:49.1700602;'-121.9639277
X-APPLE-STRUCTURED-LOCATION;VALUE=URI;X-ADDRESS=Chilliwack Cultural Centre 9201 Corbould St Chilliwack British Columbia V2P 4A6 Canada;X-APPLE-RADIUS=500;X-TITLE=9201 Corbould St:geo:'-121.9639277,49.1700602
END:VEVENT
BEGIN:VEVENT
DTSTART;TZID=America/Vancouver:20240214T190000
DTEND;TZID=America/Vancouver:20240214T210000
DTSTAMP:20260421T223229
CREATED:20230621T174722Z
LAST-MODIFIED:20240213T171516Z
UID:33941-1707937200-1707944400@www.jorgendance.ca
SUMMARY:Anne of Green Gables – The Ballet® in Chilliwack\, BC
DESCRIPTION:View and Download Program Booklet\nAnne of Green Gables – The Ballet® is a playful\, colourful and evocative production that will transport audiences to early 20th century Atlantic Canada. Based on the beloved Canadian novel by Lucy Maud Montgomery\, Anne of Green Gables – The Ballet® follows the adventures of Anne Shirley\, an orphan girl sent to live on a farm in the fictional town of Avonlea\, Prince Edward Island.
URL:https://www.jorgendance.ca/event/anne-of-green-gables-the-ballet-chilliwack-bc/
LOCATION:Chilliwack Cultural Centre\, 9201 Corbould St\, Chilliwack\, British Columbia\, V2P 4A6\, Canada
CATEGORIES:Anne of Green Gables,Ballet Jörgen Events,Performances
GEO:49.1700602;'-121.9639277
X-APPLE-STRUCTURED-LOCATION;VALUE=URI;X-ADDRESS=Chilliwack Cultural Centre 9201 Corbould St Chilliwack British Columbia V2P 4A6 Canada;X-APPLE-RADIUS=500;X-TITLE=9201 Corbould St:geo:'-121.9639277,49.1700602
END:VEVENT
END:VCALENDAR