BEGIN:VCALENDAR
VERSION:2.0
PRODID:-//Jörgen Dance - ECPv5.16.1//NONSGML v1.0//EN
CALSCALE:GREGORIAN
METHOD:PUBLISH
X-WR-CALNAME:Jörgen Dance
X-ORIGINAL-URL:https://www.jorgendance.ca
X-WR-CALDESC:Events for Jörgen Dance
REFRESH-INTERVAL;VALUE=DURATION:PT1H
X-Robots-Tag:noindex
X-PUBLISHED-TTL:PT1H
BEGIN:VTIMEZONE
TZID:America/Toronto
BEGIN:DAYLIGHT
TZOFFSETFROM:-0500
TZOFFSETTO:-0400
TZNAME:EDT
DTSTART:20190310T070000
END:DAYLIGHT
BEGIN:STANDARD
TZOFFSETFROM:-0400
TZOFFSETTO:-0500
TZNAME:EST
DTSTART:20191103T060000
END:STANDARD
BEGIN:DAYLIGHT
TZOFFSETFROM:-0500
TZOFFSETTO:-0400
TZNAME:EDT
DTSTART:20200308T070000
END:DAYLIGHT
BEGIN:STANDARD
TZOFFSETFROM:-0400
TZOFFSETTO:-0500
TZNAME:EST
DTSTART:20201101T060000
END:STANDARD
BEGIN:DAYLIGHT
TZOFFSETFROM:-0500
TZOFFSETTO:-0400
TZNAME:EDT
DTSTART:20210314T070000
END:DAYLIGHT
BEGIN:STANDARD
TZOFFSETFROM:-0400
TZOFFSETTO:-0500
TZNAME:EST
DTSTART:20211107T060000
END:STANDARD
BEGIN:DAYLIGHT
TZOFFSETFROM:-0500
TZOFFSETTO:-0400
TZNAME:EDT
DTSTART:20220313T070000
END:DAYLIGHT
BEGIN:STANDARD
TZOFFSETFROM:-0400
TZOFFSETTO:-0500
TZNAME:EST
DTSTART:20221106T060000
END:STANDARD
BEGIN:DAYLIGHT
TZOFFSETFROM:-0500
TZOFFSETTO:-0400
TZNAME:EDT
DTSTART:20230312T070000
END:DAYLIGHT
BEGIN:STANDARD
TZOFFSETFROM:-0400
TZOFFSETTO:-0500
TZNAME:EST
DTSTART:20231105T060000
END:STANDARD
BEGIN:DAYLIGHT
TZOFFSETFROM:-0500
TZOFFSETTO:-0400
TZNAME:EDT
DTSTART:20240310T070000
END:DAYLIGHT
BEGIN:STANDARD
TZOFFSETFROM:-0400
TZOFFSETTO:-0500
TZNAME:EST
DTSTART:20241103T060000
END:STANDARD
BEGIN:DAYLIGHT
TZOFFSETFROM:-0500
TZOFFSETTO:-0400
TZNAME:EDT
DTSTART:20250309T070000
END:DAYLIGHT
BEGIN:STANDARD
TZOFFSETFROM:-0400
TZOFFSETTO:-0500
TZNAME:EST
DTSTART:20251102T060000
END:STANDARD
END:VTIMEZONE
BEGIN:VEVENT
DTSTART;TZID=America/Toronto:20191217T190000
DTEND;TZID=America/Toronto:20191217T210000
DTSTAMP:20260424T011920
CREATED:20191030T212858Z
LAST-MODIFIED:20191030T212858Z
UID:5490-1576609200-1576616400@www.jorgendance.ca
SUMMARY:Nutcracker: A Canadian Tradition – Brampton\, ON
DESCRIPTION:[button link=https://tickets.brampton.ca/Online/mapSelect.asp?doWork::WSmap::loadMap=Load&createBO::WSmap=1&BOparam::WSmap::loadMap::performance_ids=1A28EC10-2FD0-47D7-8522-A365B3F979D8 type=”big” color=”purple” newwindow=”yes”] Purchase Tickets[/button]
URL:https://www.jorgendance.ca/event/nutcracker-a-canadian-tradition-brampton-on/
LOCATION:Rose Theatre\, 1 Theatre Lane\, Brampton\, Ontario\, L6V 0A3\, Canada
CATEGORIES:Ballet Jörgen Events,Performances,The Nutcracker: A Canadian Tradition
GEO:43.6871407;'-79.7601445
X-APPLE-STRUCTURED-LOCATION;VALUE=URI;X-ADDRESS=Rose Theatre 1 Theatre Lane Brampton Ontario L6V 0A3 Canada;X-APPLE-RADIUS=500;X-TITLE=1 Theatre Lane:geo:'-79.7601445,43.6871407
END:VEVENT
BEGIN:VEVENT
DTSTART;TZID=America/Toronto:20221019T193000
DTEND;TZID=America/Toronto:20221019T213000
DTSTAMP:20260424T011920
CREATED:20191121T164307Z
LAST-MODIFIED:20221019T182239Z
UID:9439-1666207800-1666215000@www.jorgendance.ca
SUMMARY:Anne of Green Gables – The Ballet® in Brampton\, ON
DESCRIPTION:  \nClick to view Brampton Program
URL:https://www.jorgendance.ca/event/anne-of-green-gables-the-ballet-brampton-on/
LOCATION:Rose Theatre\, 1 Theatre Lane\, Brampton\, Ontario\, L6V 0A3\, Canada
CATEGORIES:Anne of Green Gables,Ballet Jörgen Events,Performances
GEO:43.6871407;'-79.7601445
X-APPLE-STRUCTURED-LOCATION;VALUE=URI;X-ADDRESS=Rose Theatre 1 Theatre Lane Brampton Ontario L6V 0A3 Canada;X-APPLE-RADIUS=500;X-TITLE=1 Theatre Lane:geo:'-79.7601445,43.6871407
END:VEVENT
BEGIN:VEVENT
DTSTART;TZID=America/Toronto:20231213T190000
DTEND;TZID=America/Toronto:20231213T210000
DTSTAMP:20260424T011920
CREATED:20230620T141616Z
LAST-MODIFIED:20231211T160407Z
UID:33829-1702494000-1702501200@www.jorgendance.ca
SUMMARY:The Nutcracker: A Canadian Tradition in Brampton\, ON
DESCRIPTION:View and Download Program Booklet\nHoliday magic is made year after year by Ballet Jörgen’s traditional treasure The Nutcracker: A Canadian Tradition. Created by acclaimed choreographer and Artistic Director Bengt Jörgen to Tchaikovsky’s well-loved score\, this delightful classic is a favourite that brings magic to the holidays.
URL:https://www.jorgendance.ca/event/the-nutcracker-a-canadian-tradition-in-brampton-on/
LOCATION:Rose Theatre\, 1 Theatre Lane\, Brampton\, Ontario\, L6V 0A3\, Canada
CATEGORIES:Ballet Jörgen Events,Performances,The Nutcracker: A Canadian Tradition
GEO:43.6871407;'-79.7601445
X-APPLE-STRUCTURED-LOCATION;VALUE=URI;X-ADDRESS=Rose Theatre 1 Theatre Lane Brampton Ontario L6V 0A3 Canada;X-APPLE-RADIUS=500;X-TITLE=1 Theatre Lane:geo:'-79.7601445,43.6871407
END:VEVENT
BEGIN:VEVENT
DTSTART;TZID=America/Toronto:20241217T190000
DTEND;TZID=America/Toronto:20241217T210000
DTSTAMP:20260424T011920
CREATED:20240522T181932Z
LAST-MODIFIED:20241217T182955Z
UID:39176-1734462000-1734469200@www.jorgendance.ca
SUMMARY:The Nutcracker: A Canadian Tradition in Brampton\, ON
DESCRIPTION:View and Download Program Booklet\nHoliday magic is made year after year by Ballet Jörgen’s traditional treasure The Nutcracker: A Canadian Tradition. Created by acclaimed choreographer and Artistic Director Bengt Jörgen to Tchaikovsky’s well-loved score\, this delightful classic is a favourite that brings magic to the holidays.
URL:https://www.jorgendance.ca/event/the-nutcracker-a-canadian-tradition-in-brampton-on-2/
LOCATION:Rose Theatre\, 1 Theatre Lane\, Brampton\, Ontario\, L6V 0A3\, Canada
CATEGORIES:Ballet Jörgen Events,Performances,The Nutcracker: A Canadian Tradition
GEO:43.6871407;'-79.7601445
X-APPLE-STRUCTURED-LOCATION;VALUE=URI;X-ADDRESS=Rose Theatre 1 Theatre Lane Brampton Ontario L6V 0A3 Canada;X-APPLE-RADIUS=500;X-TITLE=1 Theatre Lane:geo:'-79.7601445,43.6871407
END:VEVENT
BEGIN:VEVENT
DTSTART;TZID=America/Toronto:20251217T190000
DTEND;TZID=America/Toronto:20251217T213000
DTSTAMP:20260424T011920
CREATED:20250618T184525Z
LAST-MODIFIED:20251216T190828Z
UID:46152-1765998000-1766007000@www.jorgendance.ca
SUMMARY:The Nutcracker: A Canadian Tradition in Brampton\, ON
DESCRIPTION:View & Download Program Booklet\nHoliday magic is made year after year by Ballet Jörgen’s traditional treasure The Nutcracker: A Canadian Tradition. Created by acclaimed choreographer and Artistic Director Bengt Jörgen to Tchaikovsky’s well-loved score\, this delightful classic is a favourite that brings magic to the holidays.
URL:https://www.jorgendance.ca/event/the-nutcracker-a-canadian-tradition-in-brampton-ontario-2/2025-12-17/
LOCATION:Rose Theatre\, 1 Theatre Lane\, Brampton\, Ontario\, L6V 0A3\, Canada
CATEGORIES:Ballet Jörgen Events,Performances,The Nutcracker: A Canadian Tradition
GEO:43.6871407;'-79.7601445
X-APPLE-STRUCTURED-LOCATION;VALUE=URI;X-ADDRESS=Rose Theatre 1 Theatre Lane Brampton Ontario L6V 0A3 Canada;X-APPLE-RADIUS=500;X-TITLE=1 Theatre Lane:geo:'-79.7601445,43.6871407
END:VEVENT
BEGIN:VEVENT
DTSTART;TZID=America/Toronto:20251218T190000
DTEND;TZID=America/Toronto:20251218T213000
DTSTAMP:20260424T011920
CREATED:20250618T184525Z
LAST-MODIFIED:20251216T190829Z
UID:46281-1766084400-1766093400@www.jorgendance.ca
SUMMARY:The Nutcracker: A Canadian Tradition in Brampton\, ON
DESCRIPTION:View & Download Program Booklet\nHoliday magic is made year after year by Ballet Jörgen’s traditional treasure The Nutcracker: A Canadian Tradition. Created by acclaimed choreographer and Artistic Director Bengt Jörgen to Tchaikovsky’s well-loved score\, this delightful classic is a favourite that brings magic to the holidays.
URL:https://www.jorgendance.ca/event/the-nutcracker-a-canadian-tradition-in-brampton-ontario-2/2025-12-18/2/
LOCATION:Rose Theatre\, 1 Theatre Lane\, Brampton\, Ontario\, L6V 0A3\, Canada
CATEGORIES:Ballet Jörgen Events,Performances,The Nutcracker: A Canadian Tradition
GEO:43.6871407;'-79.7601445
X-APPLE-STRUCTURED-LOCATION;VALUE=URI;X-ADDRESS=Rose Theatre 1 Theatre Lane Brampton Ontario L6V 0A3 Canada;X-APPLE-RADIUS=500;X-TITLE=1 Theatre Lane:geo:'-79.7601445,43.6871407
END:VEVENT
END:VCALENDAR