BEGIN:VCALENDAR
VERSION:2.0
PRODID:-//Jörgen Dance - ECPv5.16.1//NONSGML v1.0//EN
CALSCALE:GREGORIAN
METHOD:PUBLISH
X-WR-CALNAME:Jörgen Dance
X-ORIGINAL-URL:https://www.jorgendance.ca
X-WR-CALDESC:Events for Jörgen Dance
REFRESH-INTERVAL;VALUE=DURATION:PT1H
X-Robots-Tag:noindex
X-PUBLISHED-TTL:PT1H
BEGIN:VTIMEZONE
TZID:America/Toronto
BEGIN:DAYLIGHT
TZOFFSETFROM:-0500
TZOFFSETTO:-0400
TZNAME:EDT
DTSTART:20230312T070000
END:DAYLIGHT
BEGIN:STANDARD
TZOFFSETFROM:-0400
TZOFFSETTO:-0500
TZNAME:EST
DTSTART:20231105T060000
END:STANDARD
BEGIN:DAYLIGHT
TZOFFSETFROM:-0500
TZOFFSETTO:-0400
TZNAME:EDT
DTSTART:20240310T070000
END:DAYLIGHT
BEGIN:STANDARD
TZOFFSETFROM:-0400
TZOFFSETTO:-0500
TZNAME:EST
DTSTART:20241103T060000
END:STANDARD
BEGIN:DAYLIGHT
TZOFFSETFROM:-0500
TZOFFSETTO:-0400
TZNAME:EDT
DTSTART:20250309T070000
END:DAYLIGHT
BEGIN:STANDARD
TZOFFSETFROM:-0400
TZOFFSETTO:-0500
TZNAME:EST
DTSTART:20251102T060000
END:STANDARD
BEGIN:DAYLIGHT
TZOFFSETFROM:-0500
TZOFFSETTO:-0400
TZNAME:EDT
DTSTART:20260308T070000
END:DAYLIGHT
BEGIN:STANDARD
TZOFFSETFROM:-0400
TZOFFSETTO:-0500
TZNAME:EST
DTSTART:20261101T060000
END:STANDARD
END:VTIMEZONE
BEGIN:VEVENT
DTSTART;TZID=America/Toronto:20230910T150000
DTEND;TZID=America/Toronto:20230910T160000
DTSTAMP:20260423T094143
CREATED:20230615T150237Z
LAST-MODIFIED:20230906T144042Z
UID:33746-1694358000-1694361600@www.jorgendance.ca
SUMMARY:Cinderella in Gatineau\, QC
DESCRIPTION:View and Download Program Booklet Here\n \nThis ballet by Bengt Jörgen is an innovative take on the classic tale. Jörgen’s choreography balances fairy tale elements with a contemporary treatment of Cinderella and her family ties. Jörgen returns to the original Russian tradition of giving the roles of stepsisters to women to make Cinderella and her circumstances more realistic and human. Then he uses these scenes to contrast as well as emphasize the fantastical aspects of the story. Glenn Davidson’s sets create a fantastical atmosphere based on the idea of ​​the natural world reclaiming man-made structures. The inspiration for the scenes comes from ice storms and ancient forests. Robert Doyle’s costumes playfully reveal each character’s personality. Ballet Jörgen’s Cinderella is classical ballet with modern theatrical sensibilities. \nCe ballet de Bengt Jörgen est une prise innovante du conte classique. La chorégraphie de Jörgen présente un équilibre des éléments du conte de fée et d’un traitement contemporain de Cendrillon et ses liens de famille. Jörgen retourne à la tradition russe originale de donner les rôles des demi-soeurs à des femmes pour rendre Cendrillon et ses circonstances plus réalistes et humains. \nEnsuite\, il utilise ces scènes pour contraster ainsi que souligner les aspects fantastiques de l’histoire. Les décors de Glenn Davidson créent une atmosphère fantastique basée sur l’idée de la récupération par le monde naturel des structures synthétiques. L’inspiration pour les scènes vient des tempêtes de verglas et des forêts anciennes. Les costumes de Robert Doyle révèlent de façon ludique la personnalité de chaque personnage. \nCendrillon de Ballet Jörgen est un ballet classique avec des sensibilités théâtrales modernes. \n  \n 
URL:https://www.jorgendance.ca/event/cinderella-gatineau/
LOCATION:Salle Odyssée\, 855 Boulevard de la Gappe\, Gatineau\, QC\, J8T 8H9
CATEGORIES:Ballet Jörgen Events,Cinderella,Performances
END:VEVENT
BEGIN:VEVENT
DTSTART;TZID=America/Toronto:20250406T150000
DTEND;TZID=America/Toronto:20250406T173000
DTSTAMP:20260423T094143
CREATED:20240610T201303Z
LAST-MODIFIED:20250406T183155Z
UID:40877-1743951600-1743960600@www.jorgendance.ca
SUMMARY:Sleeping Beauty - La belle aux bois dormant | Gatineau\, QC
DESCRIPTION:View and Download Program Booklet\nSleeping Beauty is one of the world‘s most famous classical ballets and holds a place in the repertoire of virtually every major company. This ballet tells the enchanting story of Aurora and her prince complete with its inherently magical qualities and dazzling choreography. \nThe fairy tale about a young woman placed under a spell to sleep for a hundred years only to be awakened by a kiss is an easily accessible story. It appeals to a child’s imagination and holds a special place in the hearts of adults. The underlying theme is the tug between the forces of good (the Lilac Fairy) and evil (Carabosse)\, serving as an important thread to the plot. Told in three acts\, the ballet benefits from the character development and technical expertise for which Ballet Jörgen is known. \nArtistic Director and award-winning choreographer Bengt Jörgen focuses on the magical elements and the interpretation of the ballet as a nature allegory: The young woman represents nature\, the wicked fairy is winter\, who deadens life with pricks of frost until a young man\, spring\, cuts away the brambles to allow the sun to awaken sleeping nature. Sleeping Beauty by Ballet Jörgen draws on the traditional choreography by Marius Petipa to spin a tale of nature and love that will inspire young and old alike.
URL:https://www.jorgendance.ca/event/sleeping-beauty-la-belle-aux-bois-dormant-gatineau-qc/
LOCATION:Salle Odyssée\, 855 Boulevard de la Gappe\, Gatineau\, QC\, J8T 8H9
CATEGORIES:Ballet Jörgen Events,Sleeping Beauty
END:VEVENT
BEGIN:VEVENT
DTSTART;TZID=America/Toronto:20260412T190000
DTEND;TZID=America/Toronto:20260412T210000
DTSTAMP:20260423T094143
CREATED:20250618T184450Z
LAST-MODIFIED:20260412T132515Z
UID:46221-1776020400-1776027600@www.jorgendance.ca
SUMMARY:A Midsummer Night's Dream in Gatineau\, QC
DESCRIPTION:View & Download Program  \nBallet Jörgen presents William Shakespeare’s classic comedy with a Canadian twist accompanied by Mendelssohn’s famous score. Ballet Jörgen’s A Midsummer Night’s Dream will bring out the magic of Northern Canada’s woodland and tundra landscapes and creatures of the forest. The ballet is a tale of love and\, often misguided\, magic set in motion by the mischievous trickster Puck. This family-friendly short ballet will captivate audiences of all ages and will warm the hearts of young and old alike!
URL:https://www.jorgendance.ca/event/a-midsummer-nights-dream-in-gatineau-quebec/
LOCATION:Salle Odyssée\, 855 Boulevard de la Gappe\, Gatineau\, QC\, J8T 8H9
CATEGORIES:Ballet Jörgen Events,Midsummer Night's Dream,Performances
END:VEVENT
END:VCALENDAR